BEGIN:VCALENDAR
VERSION:2.0
PRODID:-//Marque Sports Car Register - ECPv6.15.20//NONSGML v1.0//EN
CALSCALE:GREGORIAN
METHOD:PUBLISH
X-WR-CALNAME:Marque Sports Car Register
X-ORIGINAL-URL:https://marquenq.com.au
X-WR-CALDESC:Events for Marque Sports Car Register
REFRESH-INTERVAL;VALUE=DURATION:PT1H
X-Robots-Tag:noindex
X-PUBLISHED-TTL:PT1H
BEGIN:VTIMEZONE
TZID:Australia/Brisbane
BEGIN:STANDARD
TZOFFSETFROM:+1000
TZOFFSETTO:+1000
TZNAME:AEST
DTSTART:20250101T000000
END:STANDARD
END:VTIMEZONE
BEGIN:VEVENT
DTSTART;TZID=Australia/Brisbane:20260422T090000
DTEND;TZID=Australia/Brisbane:20260422T120000
DTSTAMP:20260422T014203
CREATED:20240113T055029Z
LAST-MODIFIED:20251221T052905Z
UID:4765-1776848400-1776859200@marquenq.com.au
SUMMARY:MID WEEK DRIVE
DESCRIPTION:Meet at Sk8way @ 9:00am for a leisurely drive around town culminating in morning tea at an agreed venue.
URL:https://marquenq.com.au/event/mid-week-drive-8/
LOCATION:Queensland
CATEGORIES:Social
END:VEVENT
BEGIN:VEVENT
DTSTART;TZID=Australia/Brisbane:20260422T090000
DTEND;TZID=Australia/Brisbane:20260422T120000
DTSTAMP:20260422T014203
CREATED:20250106T012215Z
LAST-MODIFIED:20251221T052929Z
UID:5407-1776848400-1776859200@marquenq.com.au
SUMMARY:FNQ Chapter Social Drive
DESCRIPTION:Meet at 9:00am every Wednesday at the Tolga Pub for a social drive and coffee. \nContact for FNQ Chapter is Ron Schilling:  0412 456 365
URL:https://marquenq.com.au/event/fnq-chapter-social-drive-14/
LOCATION:Tolga Hotel\, 23 Main Street\, Tolga\, Qld\, 4882\, Australia
ORGANIZER;CN="Marque Sports Car Register":MAILTO:social@marquenq.com.au
END:VEVENT
END:VCALENDAR